BEGIN:VCALENDAR
VERSION:2.0
PRODID:-//Karriere und Finanzen - ECPv6.15.17.1//NONSGML v1.0//EN
CALSCALE:GREGORIAN
METHOD:PUBLISH
X-WR-CALNAME:Karriere und Finanzen
X-ORIGINAL-URL:https://karriere-und-finanzen.verein-fema.at
X-WR-CALDESC:Veranstaltungen für Karriere und Finanzen
REFRESH-INTERVAL;VALUE=DURATION:PT1H
X-Robots-Tag:noindex
X-PUBLISHED-TTL:PT1H
BEGIN:VTIMEZONE
TZID:Europe/Vienna
BEGIN:DAYLIGHT
TZOFFSETFROM:+0100
TZOFFSETTO:+0200
TZNAME:CEST
DTSTART:20250330T010000
END:DAYLIGHT
BEGIN:STANDARD
TZOFFSETFROM:+0200
TZOFFSETTO:+0100
TZNAME:CET
DTSTART:20251026T010000
END:STANDARD
BEGIN:DAYLIGHT
TZOFFSETFROM:+0100
TZOFFSETTO:+0200
TZNAME:CEST
DTSTART:20260329T010000
END:DAYLIGHT
BEGIN:STANDARD
TZOFFSETFROM:+0200
TZOFFSETTO:+0100
TZNAME:CET
DTSTART:20261025T010000
END:STANDARD
BEGIN:DAYLIGHT
TZOFFSETFROM:+0100
TZOFFSETTO:+0200
TZNAME:CEST
DTSTART:20270328T010000
END:DAYLIGHT
BEGIN:STANDARD
TZOFFSETFROM:+0200
TZOFFSETTO:+0100
TZNAME:CET
DTSTART:20271031T010000
END:STANDARD
END:VTIMEZONE
BEGIN:VEVENT
DTSTART;TZID=Europe/Vienna:20260420T190000
DTEND;TZID=Europe/Vienna:20260420T210000
DTSTAMP:20260420T162446
CREATED:20260313T171635Z
LAST-MODIFIED:20260414T093730Z
UID:18249-1776711600-1776718800@karriere-und-finanzen.verein-fema.at
SUMMARY:Webinar: So finanzierst Du Deine Ausbildung als Alleinerzieher*in
DESCRIPTION:Aufstieg durch Ausbildung: So bringst Du Deine Weiterbildung finanziell auf den Weg\nKostenloses Webinar mit Mag.a Jutta Mailänder | Mittwoch\, 15. April 2026 | 19:00 Uhr – 21:00 Uhr \nANMELDUNG ZUM WEBINAR >> \nDu interessierst Dich für eine Aus- oder Weiterbildung\, zum Beispiel\, um Dein Einkommen zu verbessern\, Deinen Arbeitsplatz zu sichern oder einen neuen Job zu landen? In diesem Webinar erfährst Du\, welche Möglichkeiten Du hast\, um Projekt auf Schiene zu bekommen. Wer kann Dich unterstützen\, wo bekommst Du Infos und welche Beihilfen gibt es zu welchen Bedingungen? \nDas erfhährst Du im Webinar\n\nWann steht Sozialhilfe während der Ausbildung zu?\nWelche Möglichkeiten gibt es\, um ein Stipdendium für ein Studium an einer österreichischen Universität oder Fachhochschule zu bekommen?\nWie kann mich das AMS bei meinem Projekt unterstützen?\nWelche Beihilfen gibt es in meinem Bundesland und welche anderen Organisationen können mich unterstützen?\nWann kann ich meine Ausbildungskosten von der Steuer absetzen?\n\nAnschließend bieten wir ausreichend Zeit für all Deine Fragen zu Deiner speziellen Situation und Austausch unter den Teilnehmer*innen. \nANMELDUNG ZUM WEBINAR >> \nDie Vortragende\n Mag.a Jutta Mailänder ist Projektleiterin von „Karriere und Finanzen“\, der Initiative für Finanzbildung und Karriere für Alleinerzieher*innen von FEM.A. Nach ihrem wirtschaftswissenschaftlichen Studium hat sie Erfahrung als Social Media Managerin\, Projekt Managerin und im Fundraising gesammelt. Bei FEM.A setzt sie sich außerdem mit der strukturellen Diskriminierung von Alleinerzieher*innen auseinander und macht auf strukturelle Ungerechtigkeiten aufmerksam. Zur Aktivistin wurde sie\, weil sie die Diskriminierung am eigenen Leib verspürt. Deshalb hat sie sich mit anderen Alleinerzieher*innen zusammengeschlossen.
URL:https://karriere-und-finanzen.verein-fema.at/event/so-finanzierst-du-deine-ausbildung-als-alleinerzieherin/
CATEGORIES:Finanzielle Beihilfen,Frauen,Karriere
ATTACH;FMTTYPE=image/png:https://karriere-und-finanzen.verein-fema.at/wp-content/uploads/2026/03/Ausbildung-finanzieren-als-Alleinerzieherin.png
END:VEVENT
BEGIN:VEVENT
DTSTART;TZID=Europe/Vienna:20260422T190000
DTEND;TZID=Europe/Vienna:20260422T210000
DTSTAMP:20260420T162446
CREATED:20260313T180830Z
LAST-MODIFIED:20260409T111743Z
UID:18252-1776884400-1776891600@karriere-und-finanzen.verein-fema.at
SUMMARY:Interaktiver Workshop: Mein Kind zieht aus\, wie geht es finanziell weiter?
DESCRIPTION:So bereitest Du Dich als Alleinerzieher*in finanziell vor\, wenn Dein Kind auszieht\nKostenloser Workshop mit Mag.a Jutta Mailänder | Donnerstag\, 22. April 2026 | 19:00 bis 21:00 Uhr \nANMELDUNG ZUM WEBINAR >> \nEgal\, ob Dein Kind schon bald auszieht oder Du Dich schon frühzeitig darauf vorbereiten willst: Wir schauen uns gemeinsam an\, was sich für Dich finanziell ändern kann: \n\nWo liegen die höchsten Kosten nach dem Auszug Deines Kindes?\nWelche Zahlungen können wegfallen?\nWelche Beihilfen könnten sich reduzieren oder wegfallen?\nWelche Zahlungen können für Dich neu hinzukommen?\n\nGemeinsam entwerfen wird Strategien\, wie Du frühzeitig finanziell vorsorgen kannst:\n\nWas kannst Du jetzt schon tun\, um Dein Einkommen zum Zeitpunkt des Auszugs zu steigern?\nWelche Maßnahmen kannst Du setzen\, um Deine Kosten nach dem Auszug Deines Kindes zu reduzieren?\nWelche innovativen Lösungen gibt es\, um Deinen Lebensstandard zu halten?\n\nFür den interaktiven Workshop brauchst Du ein funktionierendes Mikrofon\, da wir in den direkten Austausch in Break-out Räume gehen werden.\nWenn möglich\, verschaffe Dir schon vor dem Webinar mit dem Budgetrechner der Budgetberatung einen Überblick über Deine Einnahmen und Ausgaben und lade sie Dir als PDF herunter.\nWir freuen uns auf Deine Ideen! \nANMELDUNG ZUM WEBINAR >> \nDie Workshop-Leiterin\n Mag.a Jutta Mailänder ist Projektleiterin von „Karriere und Finanzen“\, der Initiative für Finanzbildung und Karriere für Alleinerzieher*innen von FEM.A. Nach ihrem wirtschaftswissenschaftlichen Studium hat sie Erfahrung als Social Media Managerin\, Projekt Managerin und im Fundraising gesammelt. Bei FEM.A setzt sie sich außerdem mit der strukturellen Diskriminierung von Alleinerzieher*innen auseinander und macht auf strukturelle Ungerechtigkeiten aufmerksam. Zur Aktivistin wurde sie\, weil sie die Diskriminierung am eigenen Leib verspürt. Deshalb hat sie sich mit anderen Alleinerzieher*innen zusammengeschlossen.
URL:https://karriere-und-finanzen.verein-fema.at/event/interaktiver-workshop-mein-kind-zieht-aus-wie-geht-es-finanziell-weiter/
CATEGORIES:Finanzielle Beihilfen,Frauen,Karriere
ATTACH;FMTTYPE=image/jpeg:https://karriere-und-finanzen.verein-fema.at/wp-content/uploads/2026/03/Finanziell-vorsorgen-Kind-zieht-aus.jpg
END:VEVENT
BEGIN:VEVENT
DTSTART;TZID=Europe/Vienna:20260521T190000
DTEND;TZID=Europe/Vienna:20260521T210000
DTSTAMP:20260420T162446
CREATED:20260203T141621Z
LAST-MODIFIED:20260409T111726Z
UID:18193-1779390000-1779397200@karriere-und-finanzen.verein-fema.at
SUMMARY:Webinar: Welche finanziellen Beihilfen gibt es für Alleinerzieher*innen in Wien
DESCRIPTION:Tipps\, die Beihilfen zu finden\, die Dir wirklich nützlich sein können – Teil 2\nKostenloses Webinar mit Mag.a Jutta Mailänder | Donnerstag\, 21. Mai 2026 | 19:00 bis 21:00 Uhr \nANMELDUNG ZUM WEBINAR >> \nFEM.A hilft Dir\, Dich durch den Dschungel der Beihilfen zu kämpfen: Wir haben für Dich alle Infos über finanzielle Beihilfen der Stadt Wien recherchiert\, sowie Beihilfen und Unterstützungsleistungen von Hilfsorganisationen und Vereinen in Wien. Du erfährst in diesem Webinar\, welche Voraussetzungen es für jede der Beihilfen gibt\, wie viel Du bekommen kannst und wo Du sie bekommst. So findest Du im Nu heraus\, was Dir zusteht\, und ob sich der Antrag überhaupt auszahlt. \nInhalte Webinar Teil 2:\n\nFinanzielle Beihilfen der Stadt Wien (zum Beispiel Sozialhilfe\, Wohnbeihilfe)\nUnterstützungsangebote anderer Hilfsorganisationen in Wien\n\nAnschließend bieten wir ausreichend Zeit für all Deine Fragen zu Deiner speziellen Situation und Austausch unter den Teilnehmer*innen. \nDies ist das 2. Webinar einer zweiteiligen Reihe von Webinaren über finanzielle Beihilfen und Unterstützungsleistungen für Alleinerzieher*innen in Österreich. Im 1. Teil der Webinarreihe erfährst Du\, welche Beihilfen vom Bund ausbezahlt werden (zum Beispiel Alleinerzieherabsetzbetrag\, Familienbonus) und welche Vereine und Hilfsorganisationen Dich in ganz Österreich unterstützen. Als FEM.A-Mitglied kannst Du in unserer Videothek die Aufnahme des letzten Webinars von Teil 1 nachsehen und das Handout dazu herunterladen: https://community.verein-fema.at/mitglied-werden/ \nUm keinen Termin mehr zu verpassen\, melde Dich zu unserem Newsletter an: https://verein-fema.at/nl-anmeldung-schritt1/ \nANMELDUNG ZUM WEBINAR >> \nDie Vortragende\n Mag.a Jutta Mailänder ist Projektleiterin von „Karriere und Finanzen“\, der Initiative für Finanzbildung und Karriere für Alleinerzieher*innen von FEM.A. Nach ihrem wirtschaftswissenschaftlichen Studium hat sie Erfahrung als Social Media Managerin\, Projekt Managerin und im Fundraising gesammelt. Bei FEM.A setzt sie sich außerdem mit der strukturellen Diskriminierung von Alleinerzieher*innen auseinander und macht auf strukturelle Ungerechtigkeiten aufmerksam. Zur Aktivistin wurde sie\, weil sie die Diskriminierung am eigenen Leib verspürt. Deshalb hat sie sich mit anderen Alleinerzieher*innen zusammengeschlossen.
URL:https://karriere-und-finanzen.verein-fema.at/event/webinar-welche-finanziellen-beihilfen-gibt-es-fuer-alleinerzieherinnen-in-wien/
CATEGORIES:Finanzielle Beihilfen,Frauen,Schulden,Vermögensaufbau
ATTACH;FMTTYPE=image/jpeg:https://karriere-und-finanzen.verein-fema.at/wp-content/uploads/2024/02/Finanzielle-Beihilfen-Wien.jpeg
END:VEVENT
BEGIN:VEVENT
DTSTART;TZID=Europe/Vienna:20260528T190000
DTEND;TZID=Europe/Vienna:20260528T210000
DTSTAMP:20260420T162446
CREATED:20260205T194729Z
LAST-MODIFIED:20260205T194946Z
UID:18212-1779994800-1780002000@karriere-und-finanzen.verein-fema.at
SUMMARY:Webinar: Finanziell gesund leben als Alleinerzieher*in - Geld verwalten leicht gemacht
DESCRIPTION:Kostenloses Webinar mit DSA Melanie Maria Brandl und Mag.(FH) Mag. Manfred Posch | Donnerstag\, 28. Mai 2026 | 19:00 bis 21:00 Uhr \nAnmeldung zum Webinar >> \nDas Leben stellt uns täglich vor neuen Herausforderungen: Der tägliche Einkauf\, steigende Preise\, hohe Wohnkosten\, Kosten für Unvorhergesehenes\, Ansparen für teure Anschaffungen\, Absicherung der Pension\,…Möchtest Du lernen\, wie Du Deine Finanzen trotz Challenges im Griff behältst? \nDu bist in diesem Webinar richtig\, wenn Du: \n\nden Überblick über Deine Finanzen bewahren willst\nrichtig haushalten willst\noffen für Impulse und Lösungsansätze zum Geldsparen bist\naktuelle Fragen zu Geld stellen willst\n\nWillst Du aktiv am Webinar teilnehmen? Dann mach Dich schon vorher schlau und nutze den Budgetrechner\, um Dir einen Überblick über Deinen Finanzhaushalt zu verschaffen: https://klartext.at/wissenspool/budgetrechner/budgetrechner/\nSo kannst Du beim Webinar konkrete Fragen zu Deiner Situation stellen. Du kannst Dir die Liste auch hier herunterladen und ausdrucken\, damit Du sie für Dich ausfüllen und behalten kannst. \nHast Du schon vorab Fragen zum Budgetrechner oder zum Webinar? Dann schreib uns an event@verein-fema.at ! \nAnmeldung zum Webinar >> \nDie Vortragenden:\n  \nDSA Melanie Maria Brandl \nSeit 2009 in der Schuldnerberatung OÖ und seit 2015 in der Präventionsstelle Klartext – Finanzielle Gesundheit als Budgetberaterin sowie in der Finanzbildung für Erwachsene tätig.\nNach Abschluss der HAK arbeitete ich in der Privatwirtschaft und entschloss mich während der Karenzzeit meines jüngsten Sohnes die Ausbildung zur Sozialarbeiterin zu beginnen. Mutter zweier Söhne. \n  \nMag.(FH) Mag. Manfred Posch \nSozialarbeiter und Jurist. Seit dem Jahr 2000 Mitarbeiter der Schuldnerberatung. Seit dem Jahr 2014 als Präventionsfachkraft von KLARTEXT – Finanzielle Gesundheit ausschließlich in der Erwachsenenbildung und in der Finanzbildung von Jugendlichen tätig.\nVater eines Sohnes und einer Tochter. 15 Monate Vaterkarenz bei der Tochter. \n  \n  \nDieses Webinar wird von Klartext unterstützt: \n \nMöchtest Du mehr zum Thema Haushaltsbudget wissen? Hier findest Du einen Kontakt in Deinem Bundesland: \nBeratungsstellen \n \n  \nOberösterreich\nKlartext – Finanzielle Gesundheit\nSchuldnerberatung OÖ\nSpittelwiese 3\n4020 Linz\n0732/775577 \nSchuldnerhilfe OÖ\nStockhofstraße 9\n4020 Linz\n0732/777734 \nWien\nFonds Soziales Wien\nSchuldenberatung\nDöblerhofstraße 9\n1030 Wien\n01/2452460100 \nNiederösterreich\nSchuldnerberatung NÖ gGmbH.\nSchulring 21\n3100 St. Pölten\n02742/355420 \nVoralberg\nInstitut für Sozialdienste gGmbH.\nIFS-Schuldenberatung\nMehrerauerstraße 3\n6900 Bregenz\n05/1755580 \nSteiermark\nSchuldenberatung Steiermark\nNeutorgasse 57\n8020 Graz\n0316/372507 \nBurgenland\nSchuldenberatung Burgenland\nHartlsteig 2\n7000 Eisenstadt\n057/6002149 \nKärnten\nSchuldnerberatung Kärnten\n8.-Mai-Straße 47/2\n9020 Klagenfurt\n0463/515639 \nSalzburg\nSchuldenberatung Salzburg\nAlpenstraße 48a\n5020 Salzburg\n05/1734 \nTirol\nSchuldenberatung Tirol\nWilhelm-Greil-Straße 23/5\n6020 Innsbruck\n0512/577649
URL:https://karriere-und-finanzen.verein-fema.at/event/webinar-finanziell-gesund-leben-als-alleinerzieherin-geld-verwalten-leicht-gemacht/
CATEGORIES:Frauen,Schulden,Vermögensaufbau
ATTACH;FMTTYPE=image/png:https://karriere-und-finanzen.verein-fema.at/wp-content/uploads/2026/02/Klartext.png
END:VEVENT
BEGIN:VEVENT
DTSTART;TZID=Europe/Vienna:20260609T190000
DTEND;TZID=Europe/Vienna:20260609T210000
DTSTAMP:20260420T162446
CREATED:20260313T200632Z
LAST-MODIFIED:20260409T111712Z
UID:18255-1781031600-1781038800@karriere-und-finanzen.verein-fema.at
SUMMARY:Webinar: So holst Du Dir als Alleinerzieher*in Geld vom Finanzamt
DESCRIPTION:Lass Dein Geld nicht liegen und hol Dir vom Finanzamt\, was Dir zusteht!\nKostenloses Webinar mit Mag.a Jutta Mailänder | Dienstag\, 9. Juni 2026 | 19:00 Uhr – 21:00 Uhr \nANMELDUNG ZUM WEBINAR >> \nWusstest Du\, dass Du auch dann Geld vom Finanzamt bekommen kannst\, wenn Du nicht erwerbstätig bist? In diesem Webinar lernst Du genau das über Steuern\, was Du wirklich wissen musst\, um Dir zu holen\, was Dir zusteht. \nDas erfährst Du im Webinar\n\nWer in Österreich steuerpflichtig ist und ob Du eine Einkommensteuererklärung oder eine Arbeitnehmer*innenveranlagung machen musst\nDie wichtigsten Steuererleichterungen\, und was sich für Dich wirklich auszahlt (Alleinerzieherabsetzbetrag\, Familienbonus\, Kindermehrbetrag\, Absetzung der Kinderbetreuungskosten\, etc.)\nWer Dir bei Deinem Steuerausgleich helfen kann\nWo Du die wichtigsten Formulare findest\nWas Du bei einer Steuerrückzahlung machen kannst\n\nAnschließend bieten wir ausreichend Zeit für all Deine Fragen zu Deiner speziellen Situation und Austausch unter den Teilnehmer*innen. \nWir haben auch einen Steuer-Guide für Alleinerzieher*innen herausgegeben\, in dem Du ausführlich nachlesen kannst\, was Du als Alleinerziehe*in über Steuern wissen solltest. Den kannst Du Dir schon jetzt auf unserer Service-Seite herunterladen: https://verein-fema.at/unsere-services/ \nANMELDUNG ZUM WEBINAR >> \nDie Vortragende\n Mag.a Jutta Mailänder ist Projektleiterin von „Karriere und Finanzen“\, der Initiative für Finanzbildung und Karriere für Alleinerzieher*innen von FEM.A. Nach ihrem wirtschaftswissenschaftlichen Studium hat sie Erfahrung als Social Media Managerin\, Projekt Managerin und im Fundraising gesammelt. Bei FEM.A setzt sie sich außerdem mit der strukturellen Diskriminierung von Alleinerzieher*innen auseinander und macht auf strukturelle Ungerechtigkeiten aufmerksam. Zur Aktivistin wurde sie\, weil sie die Diskriminierung am eigenen Leib verspürt. Deshalb hat sie sich mit anderen Alleinerzieher*innen zusammengeschlossen.
URL:https://karriere-und-finanzen.verein-fema.at/event/webinar-so-holst-du-dir-als-alleinerzieherin-geld-vom-finanzamt/
CATEGORIES:Finanzielle Beihilfen,Frauen,Karriere
ATTACH;FMTTYPE=image/jpeg:https://karriere-und-finanzen.verein-fema.at/wp-content/uploads/2026/03/Steuer-Guide.jpg
END:VEVENT
END:VCALENDAR